BEGIN:VCALENDAR
VERSION:2.0
PRODID:-//ELNUR UK - ECPv6.15.20//NONSGML v1.0//EN
CALSCALE:GREGORIAN
METHOD:PUBLISH
X-WR-CALNAME:ELNUR UK
X-ORIGINAL-URL:https://elnur.co.uk
X-WR-CALDESC:Events for ELNUR UK
REFRESH-INTERVAL;VALUE=DURATION:PT1H
X-Robots-Tag:noindex
X-PUBLISHED-TTL:PT1H
BEGIN:VTIMEZONE
TZID:Europe/London
BEGIN:DAYLIGHT
TZOFFSETFROM:+0000
TZOFFSETTO:+0100
TZNAME:BST
DTSTART:20250330T010000
END:DAYLIGHT
BEGIN:STANDARD
TZOFFSETFROM:+0100
TZOFFSETTO:+0000
TZNAME:GMT
DTSTART:20251026T010000
END:STANDARD
BEGIN:DAYLIGHT
TZOFFSETFROM:+0000
TZOFFSETTO:+0100
TZNAME:BST
DTSTART:20260329T010000
END:DAYLIGHT
BEGIN:STANDARD
TZOFFSETFROM:+0100
TZOFFSETTO:+0000
TZNAME:GMT
DTSTART:20261025T010000
END:STANDARD
BEGIN:DAYLIGHT
TZOFFSETFROM:+0000
TZOFFSETTO:+0100
TZNAME:BST
DTSTART:20270328T010000
END:DAYLIGHT
BEGIN:STANDARD
TZOFFSETFROM:+0100
TZOFFSETTO:+0000
TZNAME:GMT
DTSTART:20271031T010000
END:STANDARD
END:VTIMEZONE
BEGIN:VEVENT
DTSTART;VALUE=DATE:20260505
DTEND;VALUE=DATE:20260506
DTSTAMP:20260422T165754
CREATED:20260330T151302Z
LAST-MODIFIED:20260330T152858Z
UID:4145-1777939200-1778025599@elnur.co.uk
SUMMARY:EELINE Awareness Day - Mercure Dartford
DESCRIPTION:Elnur is excited to take part in EELINE Awareness Day on 5th May\, focusing on the benefits of electric heating for a greener future. We’ll be showcasing our cutting-edge products and sharing insights on how smart\, efficient heating solutions can help reduce carbon footprints and enhance comfort. Join us to discover how Elnur is leading the way in sustainable home heating. \nWHEN AND WHERE \n 5th May 2026\n Mercure Dartford\, Brands Hatch \nCONTACTS: Sales Manager
URL:https://elnur.co.uk/event/eeline-awareness-day-mercure-dartford/
LOCATION:Mercure Dartford\, Brands Hatch\, West Kingsdown\, Dartford\, DA3 8PE\, United Kingdom
CATEGORIES:EELINE Awareness Day
ATTACH;FMTTYPE=image/webp:https://elnur.co.uk/wp-content/uploads/2026/03/Acel-Event-05.05.2026.webp
ORGANIZER;CN="Elnur":MAILTO:marketing@elnur.co.uk
END:VEVENT
BEGIN:VEVENT
DTSTART;TZID=Europe/London:20260505T150000
DTEND;TZID=Europe/London:20260505T160000
DTSTAMP:20260422T165754
CREATED:20260415T143723Z
LAST-MODIFIED:20260415T144556Z
UID:4172-1777993200-1777996800@elnur.co.uk
SUMMARY:WEBINAR - Warm Homes in Practice: Retrofit Delivery Using Renewables
DESCRIPTION:What actually works in heating and retrofit projects using renewable energy systems?\nThis practical webinar explores real-world case studies from live projects\, giving heating engineers\, installers\, and contractors actionable insights into delivering successful retrofit programmes. If you’re working in or entering the Warm Homes market\, this session will show you how to improve installation quality\, reduce costly mistakes\, and scale your projects effectively. \nWho Should Attend\nThis webinar is ideal for: \n\nHeating engineers and heating system installers\nElectrical contractors working with renewable energy systems\nRetrofit installers and coordinators\nSME contractors entering or expanding in the Warm Homes and retrofit market\nContractors delivering housing and decarbonisation programmes\nBusinesses exploring electric heating and renewable solutions\nAnyone involved in heating installation or retrofit delivery\n\nWebinar Agenda\n\n15:00 – Welcome (5 mins)\n15:05 – Case Study 1: Renewables & Heating in Practice (10 mins)\n15:15 – Case Study 2: Heating & Solar Integration (10 mins)\n15:25 – Case Study 3: Delivering Retrofit at Scale (10 mins)\n15:35 – Key Takeaways: What Installers Need to Get Right (5 mins)\n15:45 – Live Q&A + Open Discussion (20 mins)\n16:00 – Close\n\nReserve your spot today!
URL:https://elnur.co.uk/event/webinar-warm-homes-in-practice-retrofit-delivery-using-renewables/
CATEGORIES:Webinar
ATTACH;FMTTYPE=image/webp:https://elnur.co.uk/wp-content/uploads/2026/04/event-image.webp
ORGANIZER;CN="Elnur":MAILTO:marketing@elnur.co.uk
END:VEVENT
BEGIN:VEVENT
DTSTART;VALUE=DATE:20260506
DTEND;VALUE=DATE:20260507
DTSTAMP:20260422T165754
CREATED:20260330T142811Z
LAST-MODIFIED:20260330T142948Z
UID:4109-1778025600-1778111999@elnur.co.uk
SUMMARY:ACEL Awareness Day - Mercure Dartford
DESCRIPTION:Elnur is excited to take part in ACEL Awareness Day on 6th May\, focusing on the benefits of electric heating for a greener future. We’ll be showcasing our cutting-edge products and sharing insights on how smart\, efficient heating solutions can help reduce carbon footprints and enhance comfort. Join us to discover how Elnur is leading the way in sustainable home heating. \nWHEN AND WHERE \n 6th May 2026\n Mercure Dartford\, Brands Hatch \nCONTACTS: Sales Manager
URL:https://elnur.co.uk/event/acel-awareness-day-mercure-dartford-2/
LOCATION:Mercure Dartford\, Brands Hatch\, West Kingsdown\, Dartford\, DA3 8PE\, United Kingdom
CATEGORIES:Acel Awareness Days
ATTACH;FMTTYPE=image/webp:https://elnur.co.uk/wp-content/uploads/2026/03/Acel-Event-06.05.2026.webp
ORGANIZER;CN="Elnur":MAILTO:marketing@elnur.co.uk
END:VEVENT
BEGIN:VEVENT
DTSTART;VALUE=DATE:20260512
DTEND;VALUE=DATE:20260513
DTSTAMP:20260422T165754
CREATED:20260330T151754Z
LAST-MODIFIED:20260330T151754Z
UID:4148-1778544000-1778630399@elnur.co.uk
SUMMARY:EELINE Awareness Day - Ashton Gate Stadium
DESCRIPTION:Elnur is excited to take part in EELINE Awareness Day on 12th May\, focusing on the benefits of electric heating for a greener future. We’ll be showcasing our cutting-edge products and sharing insights on how smart\, efficient heating solutions can help reduce carbon footprints and enhance comfort. Join us to discover how Elnur is leading the way in sustainable home heating. \nWHEN AND WHERE \n 12th May 2026\n Ashton Gate Stadium\, Bristol\, BS3 2EJ \nCONTACTS: Sales Manager
URL:https://elnur.co.uk/event/eeline-awareness-day-ashton-gate-stadium/
LOCATION:Ashton Gate Stadium\, Bristol\, Ashton Gate Stadium\, Bristol\, BS3 2EJ\, United Kingdom
CATEGORIES:EELINE Awareness Day
ATTACH;FMTTYPE=image/webp:https://elnur.co.uk/wp-content/uploads/2026/03/Acel-Event-12.05.2026.webp
ORGANIZER;CN="Elnur":MAILTO:marketing@elnur.co.uk
END:VEVENT
BEGIN:VEVENT
DTSTART;VALUE=DATE:20260513
DTEND;VALUE=DATE:20260514
DTSTAMP:20260422T165754
CREATED:20260330T143909Z
LAST-MODIFIED:20260330T151347Z
UID:4115-1778630400-1778716799@elnur.co.uk
SUMMARY:ACEL Awareness Day - Ashton Gate Stadium
DESCRIPTION:Elnur is excited to take part in ACEL Awareness Day on 13th May\, focusing on the benefits of electric heating for a greener future. We’ll be showcasing our cutting-edge products and sharing insights on how smart\, efficient heating solutions can help reduce carbon footprints and enhance comfort. Join us to discover how Elnur is leading the way in sustainable home heating. \nWHEN AND WHERE \n 13th May 2026\n Ashton Gate Stadium\, Bristol\, BS3 2EJ \nCONTACTS: Sales Manager
URL:https://elnur.co.uk/event/acel-awareness-day-accu-stadium/
LOCATION:Ashton Gate Stadium\, Bristol\, Ashton Gate Stadium\, Bristol\, BS3 2EJ\, United Kingdom
CATEGORIES:Acel Awareness Days
ATTACH;FMTTYPE=image/webp:https://elnur.co.uk/wp-content/uploads/2026/03/Acel-Event-13.05.2026.webp
ORGANIZER;CN="Elnur":MAILTO:marketing@elnur.co.uk
END:VEVENT
BEGIN:VEVENT
DTSTART;VALUE=DATE:20260520
DTEND;VALUE=DATE:20260521
DTSTAMP:20260422T165754
CREATED:20260330T144559Z
LAST-MODIFIED:20260330T144613Z
UID:4121-1779235200-1779321599@elnur.co.uk
SUMMARY:ACEL Awareness Day - Pride Park Stadium
DESCRIPTION:Elnur is excited to take part in ACEL Awareness Day on 20th May\, focusing on the benefits of electric heating for a greener future. We’ll be showcasing our cutting-edge products and sharing insights on how smart\, efficient heating solutions can help reduce carbon footprints and enhance comfort. Join us to discover how Elnur is leading the way in sustainable home heating. \nWHEN AND WHERE \n 20th May 2026\n Pride Park Stadium\, Derby\, \nCONTACTS: David Hemming
URL:https://elnur.co.uk/event/acel-awareness-day-pride-park-stadium/
LOCATION:Pride Park Stadium\, Derby\, Ground Floor Retail Unit\, Pride Park Stadium\, Derby\, DE24 8XL
CATEGORIES:Acel Awareness Days
ATTACH;FMTTYPE=image/webp:https://elnur.co.uk/wp-content/uploads/2026/03/Acel-Event-20.05.2026.webp
ORGANIZER;CN="David Hemming":MAILTO:david.hemming@elnur.co.uk
END:VEVENT
BEGIN:VEVENT
DTSTART;VALUE=DATE:20260521
DTEND;VALUE=DATE:20260522
DTSTAMP:20260422T165754
CREATED:20260330T152145Z
LAST-MODIFIED:20260330T152918Z
UID:4152-1779321600-1779407999@elnur.co.uk
SUMMARY:EELINE Awareness Day - Pride Park Stadium
DESCRIPTION:Elnur is excited to take part in EELINE Awareness Day on 21st May\, focusing on the benefits of electric heating for a greener future. We’ll be showcasing our cutting-edge products and sharing insights on how smart\, efficient heating solutions can help reduce carbon footprints and enhance comfort. Join us to discover how Elnur is leading the way in sustainable home heating. \nWHEN AND WHERE \n21st May 2026\n Pride Park Stadium\, Derby\, \nCONTACTS: David Hemming
URL:https://elnur.co.uk/event/eeline-awareness-day-pride-park-stadium/
LOCATION:Pride Park Stadium\, Derby\, Ground Floor Retail Unit\, Pride Park Stadium\, Derby\, DE24 8XL
CATEGORIES:EELINE Awareness Day
ATTACH;FMTTYPE=image/webp:https://elnur.co.uk/wp-content/uploads/2026/03/EELINE-Event-20.05.2026.webp
ORGANIZER;CN="David Hemming":MAILTO:david.hemming@elnur.co.uk
END:VEVENT
BEGIN:VEVENT
DTSTART;VALUE=DATE:20260527
DTEND;VALUE=DATE:20260528
DTSTAMP:20260422T165754
CREATED:20260330T152422Z
LAST-MODIFIED:20260330T152422Z
UID:4155-1779840000-1779926399@elnur.co.uk
SUMMARY:EELINE Awareness Day - Stadium MK
DESCRIPTION:Elnur is excited to take part in EELINE Awareness Day on 27th May\, focusing on the benefits of electric heating for a greener future. We’ll be showcasing our cutting-edge products and sharing insights on how smart\, efficient heating solutions can help reduce carbon footprints and enhance comfort. Join us to discover how Elnur is leading the way in sustainable home heating. \nWHEN AND WHERE \n 27th May 2026\n Stadium MK\, Stadium Way W\, Bletchley\, Milton Keynes MK1 1ST \nCONTACTS: Stephen Tennyson
URL:https://elnur.co.uk/event/eeline-awareness-day-stadium-mk/
LOCATION:Stadium MK\, Stadium MK\, Stadium Way W\, Bletchley\, Milton Keynes\, MK1 1ST\, United Kingdom
CATEGORIES:EELINE Awareness Day
ATTACH;FMTTYPE=image/webp:https://elnur.co.uk/wp-content/uploads/2026/03/EELINE-Event-27.05.2026.webp
ORGANIZER;CN="Stephen Tennyson":MAILTO:stephen.tennyson@elnur.co.uk
END:VEVENT
BEGIN:VEVENT
DTSTART;VALUE=DATE:20260528
DTEND;VALUE=DATE:20260529
DTSTAMP:20260422T165754
CREATED:20260330T144934Z
LAST-MODIFIED:20260330T145442Z
UID:4128-1779926400-1780012799@elnur.co.uk
SUMMARY:ACEL Awareness Day - Stadium MK
DESCRIPTION:Elnur is excited to take part in ACEL Awareness Day on 28th May\, focusing on the benefits of electric heating for a greener future. We’ll be showcasing our cutting-edge products and sharing insights on how smart\, efficient heating solutions can help reduce carbon footprints and enhance comfort. Join us to discover how Elnur is leading the way in sustainable home heating. \nWHEN AND WHERE \n 28th May 2026\n Stadium MK\, Stadium Way W\, Bletchley\, Milton Keynes MK1 1ST \nCONTACTS: Stephen Tennyson
URL:https://elnur.co.uk/event/acel-awareness-day-stadium-mk/
LOCATION:Stadium MK\, Stadium MK\, Stadium Way W\, Bletchley\, Milton Keynes\, MK1 1ST\, United Kingdom
ATTACH;FMTTYPE=image/webp:https://elnur.co.uk/wp-content/uploads/2026/03/Acel-Event-28.05.2026.webp
ORGANIZER;CN="Stephen Tennyson":MAILTO:stephen.tennyson@elnur.co.uk
END:VEVENT
END:VCALENDAR