BEGIN:VCALENDAR
VERSION:2.0
PRODID:-//ELNUR UK - ECPv6.15.20//NONSGML v1.0//EN
CALSCALE:GREGORIAN
METHOD:PUBLISH
X-WR-CALNAME:ELNUR UK
X-ORIGINAL-URL:https://elnur.co.uk
X-WR-CALDESC:Events for ELNUR UK
REFRESH-INTERVAL;VALUE=DURATION:PT1H
X-Robots-Tag:noindex
X-PUBLISHED-TTL:PT1H
BEGIN:VTIMEZONE
TZID:Europe/London
BEGIN:DAYLIGHT
TZOFFSETFROM:+0000
TZOFFSETTO:+0100
TZNAME:BST
DTSTART:20240331T010000
END:DAYLIGHT
BEGIN:STANDARD
TZOFFSETFROM:+0100
TZOFFSETTO:+0000
TZNAME:GMT
DTSTART:20241027T010000
END:STANDARD
BEGIN:DAYLIGHT
TZOFFSETFROM:+0000
TZOFFSETTO:+0100
TZNAME:BST
DTSTART:20250330T010000
END:DAYLIGHT
BEGIN:STANDARD
TZOFFSETFROM:+0100
TZOFFSETTO:+0000
TZNAME:GMT
DTSTART:20251026T010000
END:STANDARD
BEGIN:DAYLIGHT
TZOFFSETFROM:+0000
TZOFFSETTO:+0100
TZNAME:BST
DTSTART:20260329T010000
END:DAYLIGHT
BEGIN:STANDARD
TZOFFSETFROM:+0100
TZOFFSETTO:+0000
TZNAME:GMT
DTSTART:20261025T010000
END:STANDARD
BEGIN:DAYLIGHT
TZOFFSETFROM:+0000
TZOFFSETTO:+0100
TZNAME:BST
DTSTART:20270328T010000
END:DAYLIGHT
BEGIN:STANDARD
TZOFFSETFROM:+0100
TZOFFSETTO:+0000
TZNAME:GMT
DTSTART:20271031T010000
END:STANDARD
END:VTIMEZONE
BEGIN:VEVENT
DTSTART;TZID=Europe/London:20260319T070000
DTEND;TZID=Europe/London:20260319T120000
DTSTAMP:20260422T204129
CREATED:20260108T131202Z
LAST-MODIFIED:20260108T131246Z
UID:4027-1773903600-1773921600@elnur.co.uk
SUMMARY:Trade Morning
DESCRIPTION:Join Elnur for a morning of networking\, product demos\, and industry insight at the Rexel Trade Talk Morning in Isle of Wight. \nThis is a fantastic opportunity to:\n• Explore Elnur’s latest range of electric heating products\, including our NEW ECOHHR PLUS models\n• Get hands-on with innovative solutions like our HHR storage heaters\, smart electric radiators\, and electric boilers\n• Speak directly with a member of our experienced team about the future of electric heating and energy efficiency\n• Enjoy a complimentary breakfast and refreshments in a relaxed setting \nWhether you’re interested in sustainable heating technologies\, looking to expand your product offering\, or just want to stay up to date with the latest developments in the heating sector\, this Trade Talk is for you. No registration required—just drop by on the day. \nWHEN AND WHERE \n19th March 2026 @ 7am – 12pm \nRexel\, \n  \n62 Manners View\, Dodnor Industrial Estate\, Newport\, \n  \nIsle of Wight\, \nPO30 5FA \nSPEAKERS: James Britton
URL:https://elnur.co.uk/event/trade-morning/
LOCATION:Rexel Isle of Wight\, 62 Manners View\, Dodnor Industrial Estate\, Newport\, Isle of Wight\, PO30 5FA\, United Kingdom
CATEGORIES:Breakfast Morning,Rexel
ATTACH;FMTTYPE=image/png:https://elnur.co.uk/wp-content/uploads/2026/01/Rexel-Breakfast-Morning-Event-19.03.2026.png
ORGANIZER;CN="Elnur":MAILTO:marketing@elnur.co.uk
END:VEVENT
BEGIN:VEVENT
DTSTART;TZID=Europe/London:20251111T070000
DTEND;TZID=Europe/London:20251111T120000
DTSTAMP:20260422T204129
CREATED:20251007T104737Z
LAST-MODIFIED:20251007T105128Z
UID:3781-1762844400-1762862400@elnur.co.uk
SUMMARY:Breakfast Morning - Rexel Heathrow
DESCRIPTION:Join Elnur for a morning of networking\, product demos\, and industry insight at the Rexel Breakfast Morning at Heathrow. We’re excited to connect with local installers\, heating engineers\, and trade professionals across London. \nThis is a fantastic opportunity to:\n• Explore Elnur’s latest range of electric heating products\n• Get hands-on with innovative solutions like our HHR storage heaters\, smart electric radiators\, and electric boilers\n• Speak directly with a member of our experienced team about the future of electric heating and energy efficiency\n• Enjoy a complimentary breakfast and refreshments in a relaxed\, informal setting \nWhether you’re interested in sustainable heating technologies\, looking to expand your product offering\, or just want to stay up to date with the latest developments in the heating sector—this event is for you. No registration required—just drop by on the day. \nWHEN AND WHERE \n 11th November 2025\n Rexel Heathrow\, \nUnit 15A\, The Heathrow Estate\, London \nTW4 6NF \nSPEAKERS: James Britton \nContact Details: 07513701156 / j.britton@elnur.co.uk
URL:https://elnur.co.uk/event/breakfast-morning-rexel-heathrow/
LOCATION:Rexel Heathrow\, Rexel Heathrow\, Unit 15A\, The Heathrow Estate\, London\, London\, TW4 6NF\, United Kingdom
CATEGORIES:Breakfast Morning,Rexel
ATTACH;FMTTYPE=image/webp:https://elnur.co.uk/wp-content/uploads/2025/10/Rexel-Breakfast-Morning-Event-11.11.2025.webp
ORGANIZER;CN="Elnur":MAILTO:marketing@elnur.co.uk
END:VEVENT
BEGIN:VEVENT
DTSTART;TZID=Europe/London:20250710T070000
DTEND;TZID=Europe/London:20250710T120000
DTSTAMP:20260422T204129
CREATED:20250630T074405Z
LAST-MODIFIED:20250630T075317Z
UID:3699-1752130800-1752148800@elnur.co.uk
SUMMARY:Breakfast Morning - City Plumbing Newport (Isle of Wight)
DESCRIPTION:Join Elnur for a morning of networking\, product demos\, and industry insight at the City Plumbing Trade Breakfast Morning in Newport. We’re excited to be attending alongside trusted partners Gledhill and Ideal Boilers to connect with local installers\, heating engineers\, and trade professionals across the Isle of Wight.\n \nThis is a fantastic opportunity to:\n    • Explore Elnur’s latest range of electric heating products\n    • Get hands-on with innovative solutions like our HHR storage heaters\, smart electric radiators\, and electric boilers\n    • Speak directly with our team about the future of electric heating and energy efficiency\n    • Enjoy a complimentary breakfast and refreshments in a relaxed\, informal setting \nWhether you’re interested in sustainable heating technologies\, looking to expand your product offering\, or just want to stay up to date with the latest developments in the heating sector – this event is for you. No registration required – just drop by on the day. \nWHEN AND WHERE \n 10th July 2025\n City plumbing Newport\, \nIsle of Wight\, \nPO30 5FA \n  \nSPEAKERS: James Britton \n\n 
URL:https://elnur.co.uk/event/breakfast-morning-city-plumbing-newport-isle-of-wight/
LOCATION:City Plumbing Newport\, Isle of Wight\, City Plumbing\, 53\, 2 Manners View\, Newport\, Isle of Wight\, PO30 5FA\, United Kingdom
CATEGORIES:Breakfast Morning
ATTACH;FMTTYPE=image/webp:https://elnur.co.uk/wp-content/uploads/2025/06/City-Plumbing-Breakfast-Morning-Event-10.07.2025.webp
ORGANIZER;CN="Elnur":MAILTO:marketing@elnur.co.uk
END:VEVENT
END:VCALENDAR