BEGIN:VCALENDAR
VERSION:2.0
PRODID:-//ELNUR UK - ECPv6.15.20//NONSGML v1.0//EN
CALSCALE:GREGORIAN
METHOD:PUBLISH
X-WR-CALNAME:ELNUR UK
X-ORIGINAL-URL:https://elnur.co.uk
X-WR-CALDESC:Events for ELNUR UK
REFRESH-INTERVAL;VALUE=DURATION:PT1H
X-Robots-Tag:noindex
X-PUBLISHED-TTL:PT1H
BEGIN:VTIMEZONE
TZID:Europe/London
BEGIN:DAYLIGHT
TZOFFSETFROM:+0000
TZOFFSETTO:+0100
TZNAME:BST
DTSTART:20250330T010000
END:DAYLIGHT
BEGIN:STANDARD
TZOFFSETFROM:+0100
TZOFFSETTO:+0000
TZNAME:GMT
DTSTART:20251026T010000
END:STANDARD
BEGIN:DAYLIGHT
TZOFFSETFROM:+0000
TZOFFSETTO:+0100
TZNAME:BST
DTSTART:20260329T010000
END:DAYLIGHT
BEGIN:STANDARD
TZOFFSETFROM:+0100
TZOFFSETTO:+0000
TZNAME:GMT
DTSTART:20261025T010000
END:STANDARD
BEGIN:DAYLIGHT
TZOFFSETFROM:+0000
TZOFFSETTO:+0100
TZNAME:BST
DTSTART:20270328T010000
END:DAYLIGHT
BEGIN:STANDARD
TZOFFSETFROM:+0100
TZOFFSETTO:+0000
TZNAME:GMT
DTSTART:20271031T010000
END:STANDARD
END:VTIMEZONE
BEGIN:VEVENT
DTSTART;VALUE=DATE:20260603
DTEND;VALUE=DATE:20260604
DTSTAMP:20260422T193340
CREATED:20260330T152705Z
LAST-MODIFIED:20260330T152705Z
UID:4158-1780444800-1780531199@elnur.co.uk
SUMMARY:EELINE Awareness Day - Westerwood Hotel
DESCRIPTION:Elnur is excited to take part in EELINE Awareness Day on 3rd June\, focusing on the benefits of electric heating for a greener future. We’ll be showcasing our cutting-edge products and sharing insights on how smart\, efficient heating solutions can help reduce carbon footprints and enhance comfort. Join us to discover how Elnur is leading the way in sustainable home heating. \nWHEN AND WHERE \n 3rd June 2026\n Westerwood Hotel\, Cumbernauld\, Glasgow G68 0EW \nCONTACTS: Sales Manager
URL:https://elnur.co.uk/event/eeline-awareness-day-westerwood-hotel/
LOCATION:Westerwood Hotel\, Cumbernauld\, Westerwood Hotel\, 1 St Andrews Dr\, Cumbernauld\, Glasgow\, G68 0EW\, United Kingdom
CATEGORIES:EELINE Awareness Day
ATTACH;FMTTYPE=image/webp:https://elnur.co.uk/wp-content/uploads/2026/03/EELINE-Event-03.06.2026.webp
ORGANIZER;CN="Elnur":MAILTO:marketing@elnur.co.uk
END:VEVENT
END:VCALENDAR